BEGIN:VCALENDAR
VERSION:2.0
PRODID:-//InnoTech Alberta - ECPv6.8.2.1//NONSGML v1.0//EN
CALSCALE:GREGORIAN
METHOD:PUBLISH
X-ORIGINAL-URL:https://innotechalberta.ca
X-WR-CALDESC:Events for InnoTech Alberta
REFRESH-INTERVAL;VALUE=DURATION:PT1H
X-Robots-Tag:noindex
X-PUBLISHED-TTL:PT1H
BEGIN:VTIMEZONE
TZID:America/Edmonton
BEGIN:DAYLIGHT
TZOFFSETFROM:-0700
TZOFFSETTO:-0600
TZNAME:MDT
DTSTART:20250309T090000
END:DAYLIGHT
BEGIN:STANDARD
TZOFFSETFROM:-0600
TZOFFSETTO:-0700
TZNAME:MST
DTSTART:20251102T080000
END:STANDARD
END:VTIMEZONE
BEGIN:VEVENT
DTSTART;TZID=America/Edmonton:20250506T090000
DTEND;TZID=America/Edmonton:20250506T104500
DTSTAMP:20260419T214532
CREATED:20250428T155208Z
LAST-MODIFIED:20250428T191236Z
UID:10000008-1746522000-1746528300@innotechalberta.ca
SUMMARY:New technology for well remediation and decommissioning
DESCRIPTION:Jonathan Heseltine\, Senior Researcher\nYou’re invited to attend an upcoming webinar exploring emerging approaches to a critical issue in oil and gas operations: long-term wellbore sealing. \nCement has long been the go-to material for sealing wellbores. But in complex situations—especially remediation and permanent plugging—its limitations are increasingly clear. With environmental risks and financial liabilities tied to leaking wells\, the demand for alternatives is on the rise. \nJoin our host Jonathan Heseltine from InnoTech Alberta as he explores promising new technologies that aim to improve sealing performance\, reduce emissions\, and enhance long-term well integrity. \nDate & Time: Tuesday\, May 6\, from 9 a.m. to 10:45 a.m. MDT\nLocation: Online \nRegister here: Click to Register   \nJoining Jonathan are the following experts:  \n\nOleg Ishkov – CEO\, Rockit \n\n\nCraig Brown – Owner\, Underground Vision Technologies \n\n\nLennox Leotaud – Technical Marketing Supervisor\, Well Armour Inc.  \n\nThis is a great opportunity to hear directly from innovators at the forefront of well sealing solutions and to learn how novel barrier technologies are being deployed in real-world applications.  \nIn the webinar Jonathan will also be delivering the message to field operators\, regulators\, and other potential technology vendors working in this space\, InnoTech Alberta should be their first call for consultation and field testing. \nIf you are a field operator\, regulator\, or a potential technology vendor working in this space\, InnoTech Alberta should be your first call for consultation and testing. Contact Doug Podmore for more information.
URL:https://innotechalberta.ca/event/new-technology-for-well-remediation-and-decommissioning/
LOCATION:Virtual
ATTACH;FMTTYPE=image/jpeg:https://innotechalberta.ca/app/uploads/2025/04/Well-remediation-Toolbox-3-1.jpg
ORGANIZER;CN="InnoTech Alberta":MAILTO:info@innotechalberta.ca
END:VEVENT
BEGIN:VEVENT
DTSTART;VALUE=DATE:20250610
DTEND;VALUE=DATE:20250613
DTSTAMP:20260419T214532
CREATED:20250604T202247Z
LAST-MODIFIED:20250605T191526Z
UID:10000009-1749513600-1749772799@innotechalberta.ca
SUMMARY:Global Energy Show Canada 2025
DESCRIPTION:Canadian Energy Powering Global Opportunity\n\nCanada’s national energy exhibition and conference bringing technology\, innovation and the transfer of knowledge under one roof. Hosting five halls of exhibition space\, two conferences and an awards gala\, Global Energy Show Canada fosters innovation\, leadership and synergy between all energy verticals within three fully-packed days. \nInnoTech Alberta will be attending this year’s conference and exhibition.  \nVisit us in Hall A at Booth #318 and connect with us on Alberta’s energy future. \n 
URL:https://innotechalberta.ca/event/global-energy-show-canada-2025/
LOCATION:BMO Centre\, 20 Roundup Way\, Calgary\, Alberta\, T2g 2w1\, Canada
ATTACH;FMTTYPE=image/png:https://innotechalberta.ca/app/uploads/2025/06/idYsUvYcLh_logos.png
END:VEVENT
BEGIN:VEVENT
DTSTART;TZID=America/Edmonton:20250922T090000
DTEND;TZID=America/Edmonton:20250922T120000
DTSTAMP:20260419T214532
CREATED:20250904T152129Z
LAST-MODIFIED:20250904T152814Z
UID:10000010-1758531600-1758542400@innotechalberta.ca
SUMMARY:Pads in Peatland Decision Framework and Support Tools (DST)
DESCRIPTION:InnoTech Alberta\, Alberta Environment and Protected Areas (EPA)\, Alberta Energy Regulator (AER) and the Petroleum Technology Alliance Canada (PTAC) are pleased to invite you to an upcoming workshop focused on the Decision Framework and Support Tools (DST) to guide recommendations regarding the reclamation of padded wellsites in peatlands. \nAs part of a pilot initiated by EPA\, operators have been able to apply to the AER for approval to reclaim well pads to upland land use rather than peatland. This pilot aims to streamline the reclamation certification process\, as approvals for changes in land use are currently the responsibility of Forestry and Parks (FP). \nThe workshop will bring together stakeholders from industry\, EPA\, AER\, and FP to: \n\nShare experiences using the DST\,\nDiscuss potential improvements to the DST\,\nInform the decision on a policy change that would formally allow AER\, guided by the DST\, to approve land use changes for padded wellsites in peatlands\,\nExplore the potential for extending use of the DST to wellsites in caribou zones.\n\n  \n📅 Date & Time: Monday\, September 22\, 2025 | 9:00 AM – 12:00 PM (MDT)\n📍 Location: 250 Karl Clark Road\, Edmonton\, AB or online \nLearn more about InnoTech Alberta’s work in Decision Framework and Support Tools (DST) for Accessing Padded Wellsites and Access Roads on Public Land. \nSupporting Information: Please note that there will be no review of the Decision Framework and Support Tools at the Workshop; participants are expected to be familiar with the concept and use of the DST. To prepare for the Workshop\, see the following links to the Report\, the DST Calculator\, the 2024 DST Training Session video and the EPA Directive. \nWe look forward to your contributions and insights. If you have any questions\, don’t hesitate to reach out. We will distribute the final workshop agenda a week prior to the event. \nIf you are unable to attend but have insights you’d like to share please e-mail stefan.schreiber@innotechalberta.ca by September 15th. \n  \nThis is not a webinar\, expect active participation and breakout discussions. We encourage in-person attendance for deeper engagement. \n  \n🔗 Registration is required:\n• In-person: https://pads_in_peatlands_workshop.eventbrite.ca\n• Online: https://pads_in_peatlands_workshop_online.eventbrite.ca \n 
URL:https://innotechalberta.ca/event/pads-in-peatland-decision-framework-and-support-tools-dst/
LOCATION:250 Karl Clark Road\, Edmonton\, 250 Karl Clark Road\, Edmonton\, Alberta\, Canada
ATTACH;FMTTYPE=image/jpeg:https://innotechalberta.ca/app/uploads/2024/07/DST-project-image.jpg
END:VEVENT
BEGIN:VEVENT
DTSTART;VALUE=DATE:20250923
DTEND;VALUE=DATE:20250926
DTSTAMP:20260419T214532
CREATED:20250904T153721Z
LAST-MODIFIED:20250904T153732Z
UID:10000011-1758585600-1758844799@innotechalberta.ca
SUMMARY:Carbon Capture Canada 2025
DESCRIPTION:InnoTech Alberta is a leader in carbon capture\, utilization and storage (CCUS)\, and we’re showcasing how innovation is engineering a low carbon future. Our work helps industry meet carbon reduction goals while maintaining competitiveness. \nCarbon Capture Canada\, Canada’s national CCUS Convention\, returns to Edmonton on September 23-25\, 2025\, at a make-or-break juncture for both the public and private sectors. With Deep Sky set to commence operations in the summer\, federal investment in carbon management technologies under the Energy Innovation Program\, and the advancement of Heidelberg’s groundbreaking CCUS project at its cement plant in Edmonton\, the progress is tangible. \nThe global CCUS sector is expected to see a record number of final investment decisions (FIDs) in 2025\, with around 200 projects aiming for approval. This shift from project announcements to execution will no doubt inform Canada’s CCUS strategies. Collaboration across industry and governments is essential to ensure CCS is a viable and necessary tool in accelerating decarbonization in an evolving geopolitical landscape. \nFeaturing an extensive exhibition floor\, strategic and technical sessions\, interactive workshops and site tours\, Carbon Capture Canada offers a unique opportunity to engage with industry leaders\, policymakers\, and innovators in the carbon capture\, utilization\, and storage (CCUS) sector. \n📅 Date: Monday\, September 23-25\, 2025 \n📍 Location: Booth #109 | Edmonton Convention Centre  \nVisit us on the convention floor: InnoTech Alberta Carbon Capture Canada 2025 Programming  \nLearn more about InnoTech Alberta’s CCUS Facilties.  \n 
URL:https://innotechalberta.ca/event/carbon-capture-canada-2025/
ATTACH;FMTTYPE=image/png:https://innotechalberta.ca/app/uploads/2025/09/CCUS-Social-Cards-10.png
END:VEVENT
END:VCALENDAR